BEGIN:VCALENDAR
VERSION:2.0
PRODID:-//arcan-india.com - ECPv6.15.20//NONSGML v1.0//EN
CALSCALE:GREGORIAN
METHOD:PUBLISH
X-WR-CALNAME:arcan-india.com
X-ORIGINAL-URL:https://arcan-india.com
X-WR-CALDESC:Évènements pour arcan-india.com
REFRESH-INTERVAL;VALUE=DURATION:PT1H
X-Robots-Tag:noindex
X-PUBLISHED-TTL:PT1H
BEGIN:VTIMEZONE
TZID:UTC
BEGIN:STANDARD
TZOFFSETFROM:+0000
TZOFFSETTO:+0000
TZNAME:UTC
DTSTART:20240101T000000
END:STANDARD
END:VTIMEZONE
BEGIN:VEVENT
DTSTART;VALUE=DATE:20251107
DTEND;VALUE=DATE:20251112
DTSTAMP:20260421T181307
CREATED:20251030T124550Z
LAST-MODIFIED:20251030T124617Z
UID:1853-1762473600-1762905599@arcan-india.com
SUMMARY:Foire d'automne - Pouilly
DESCRIPTION:Foire d’Automne de Pouilly en Auxois\, du 7 au 11 novembre avec de nombreuses animations\, exposants\, restauration…Entrée gratuite
URL:https://arcan-india.com/event/foire-dautomne-pouilly/
LOCATION:Sud Expo\, Lieu dit en Gibassier\,\, Pouilly en Auxois\, Créancey\, 21320\, France
CATEGORIES:Salons
ATTACH;FMTTYPE=image/jpeg:https://arcan-india.com/wp-content/uploads/2025/10/WhatsApp-Image-2025-10-30-a-13.20.28_37898409-e1761828371982.jpg
END:VEVENT
BEGIN:VEVENT
DTSTART;TZID=UTC:20251115T100000
DTEND;TZID=UTC:20251115T190000
DTSTAMP:20260421T181307
CREATED:20251030T125032Z
LAST-MODIFIED:20251030T125840Z
UID:1857-1763200800-1763233200@arcan-india.com
SUMMARY:Marché de Noël - Chagny
DESCRIPTION:Marché de Noël de Chagny\, je serai présent le samedi 15novembre de 10h à 19h. Entrée gratuite\, buvette\, restauration et animations toutes la journée.
URL:https://arcan-india.com/event/marche-de-noel-chagny/
LOCATION:Maison du Peuple\, Place Marcel Charollais\, Chagny\, 71150\, France
CATEGORIES:Salons
ATTACH;FMTTYPE=image/jpeg:https://arcan-india.com/wp-content/uploads/2025/10/WhatsApp-Image-2025-10-30-a-13.34.43_15291752-e1761828663467.jpg
END:VEVENT
BEGIN:VEVENT
DTSTART;TZID=UTC:20251123T080000
DTEND;TZID=UTC:20251123T190000
DTSTAMP:20260421T181307
CREATED:20251030T130515Z
LAST-MODIFIED:20251030T130847Z
UID:1862-1763884800-1763924400@arcan-india.com
SUMMARY:Marché de Noël de Bellevesvre
DESCRIPTION:Je serais présent au marché de Noël de Bellevesvre.\n🎅 Venez découvrir les divers exposants\, préparer vos cadeaux 🎁 ou simplement passer un bon moment ✨ \n❄Entrée gratuite\n📝 70 exposants\n📌 Anciennement marché aux poulets\n🍺🍷🌭🍟🍔🧇 Restauration et Buvette sur place\n🐴🐎 Balade en calèche gratuite
URL:https://arcan-india.com/event/marche-de-noel-de-bellevesvre/
LOCATION:Bellevesvre\, La place du marché\, Bellevresvre\, 71270\, France
CATEGORIES:Marchés
ATTACH;FMTTYPE=image/jpeg:https://arcan-india.com/wp-content/uploads/2025/10/WhatsApp-Image-2025-10-30-a-13.39.54_50baff54-e1761829721953.jpg
END:VEVENT
BEGIN:VEVENT
DTSTART;TZID=UTC:20251129T173000
DTEND;TZID=UTC:20251129T213000
DTSTAMP:20260421T181307
CREATED:20251030T131457Z
LAST-MODIFIED:20251030T131533Z
UID:1870-1764437400-1764451800@arcan-india.com
SUMMARY:Marché de Noël de Foucherans
DESCRIPTION:Présent de 17h30 à 21h30 pour la première édition du marché de Noël de Foucherans. Entrée gratuite\, nombreux artisans et exposants.
URL:https://arcan-india.com/event/marche-de-noel-de-foucherans/
LOCATION:Foucherans\, Foucherans\, 39100\, France
CATEGORIES:Marchés
ATTACH;FMTTYPE=image/jpeg:https://arcan-india.com/wp-content/uploads/2025/10/WhatsApp-Image-2025-10-30-a-13.54.28_e9f3ba9b-e1761830127544.jpg
END:VEVENT
BEGIN:VEVENT
DTSTART;TZID=UTC:20251130T100000
DTEND;TZID=UTC:20251130T170000
DTSTAMP:20260421T181307
CREATED:20251030T131831Z
LAST-MODIFIED:20251030T131904Z
UID:1875-1764496800-1764522000@arcan-india.com
SUMMARY:Marché de Noël de Sellières
DESCRIPTION:Je participe au marché de Noël de Sellières dimanche 30 novembre de 10h à 17h.\nNombreuses animations\, entrée gratuite\, présence du père noël\, restauration\, buvette…
URL:https://arcan-india.com/event/marche-de-noel-de-sellieres/
LOCATION:Sellières\, Sellières\, 39230\, France
CATEGORIES:Marchés
ATTACH;FMTTYPE=image/jpeg:https://arcan-india.com/wp-content/uploads/2025/10/WhatsApp-Image-2025-10-30-a-13.58.41_6877e2d1-e1761830340906.jpg
END:VEVENT
END:VCALENDAR