BEGIN:VCALENDAR
VERSION:2.0
PRODID:-//arcan-india.com - ECPv6.15.20//NONSGML v1.0//EN
CALSCALE:GREGORIAN
METHOD:PUBLISH
X-WR-CALNAME:arcan-india.com
X-ORIGINAL-URL:https://arcan-india.com
X-WR-CALDESC:Évènements pour arcan-india.com
REFRESH-INTERVAL;VALUE=DURATION:PT1H
X-Robots-Tag:noindex
X-PUBLISHED-TTL:PT1H
BEGIN:VTIMEZONE
TZID:UTC
BEGIN:STANDARD
TZOFFSETFROM:+0000
TZOFFSETTO:+0000
TZNAME:UTC
DTSTART:20240101T000000
END:STANDARD
END:VTIMEZONE
BEGIN:VEVENT
DTSTART;VALUE=DATE:20250628
DTEND;VALUE=DATE:20250630
DTSTAMP:20260422T054355
CREATED:20251029T143006Z
LAST-MODIFIED:20251030T125538Z
UID:1781-1751068800-1751241599@arcan-india.com
SUMMARY:Festival du Bien-être & Arts Divinatoires - Bresse
DESCRIPTION:
URL:https://arcan-india.com/event/festival-du-bien-etre-arts-divinatoires-bresse/
CATEGORIES:Salons
ATTACH;FMTTYPE=image/png:https://arcan-india.com/wp-content/uploads/2025/10/Opera-Instantane_2025-10-29_152315_www.instagram.com_.png
END:VEVENT
END:VCALENDAR