BEGIN:VCALENDAR
VERSION:2.0
PRODID:-//arcan-india.com - ECPv6.15.20//NONSGML v1.0//EN
CALSCALE:GREGORIAN
METHOD:PUBLISH
X-WR-CALNAME:arcan-india.com
X-ORIGINAL-URL:https://arcan-india.com
X-WR-CALDESC:Évènements pour arcan-india.com
REFRESH-INTERVAL;VALUE=DURATION:PT1H
X-Robots-Tag:noindex
X-PUBLISHED-TTL:PT1H
BEGIN:VTIMEZONE
TZID:UTC
BEGIN:STANDARD
TZOFFSETFROM:+0000
TZOFFSETTO:+0000
TZNAME:UTC
DTSTART:20240101T000000
END:STANDARD
END:VTIMEZONE
BEGIN:VEVENT
DTSTART;VALUE=DATE:20250524
DTEND;VALUE=DATE:20250526
DTSTAMP:20260422T071639
CREATED:20251029T142632Z
LAST-MODIFIED:20251030T125508Z
UID:1771-1748044800-1748217599@arcan-india.com
SUMMARY:Salons des minéraux à Bletterans
DESCRIPTION:
URL:https://arcan-india.com/event/salons-des-mineraux-a-bletterans/
CATEGORIES:Salons
ATTACH;FMTTYPE=image/jpeg:https://arcan-india.com/wp-content/uploads/2025/10/beb59950f2157a3f20e1f09d8e42288_salon-pass.jpg
END:VEVENT
END:VCALENDAR