BEGIN:VCALENDAR
VERSION:2.0
PRODID:-//arcan-india.com - ECPv6.15.20//NONSGML v1.0//EN
CALSCALE:GREGORIAN
METHOD:PUBLISH
X-WR-CALNAME:arcan-india.com
X-ORIGINAL-URL:https://arcan-india.com
X-WR-CALDESC:Évènements pour arcan-india.com
REFRESH-INTERVAL;VALUE=DURATION:PT1H
X-Robots-Tag:noindex
X-PUBLISHED-TTL:PT1H
BEGIN:VTIMEZONE
TZID:UTC
BEGIN:STANDARD
TZOFFSETFROM:+0000
TZOFFSETTO:+0000
TZNAME:UTC
DTSTART:20250101T000000
END:STANDARD
END:VTIMEZONE
BEGIN:VEVENT
DTSTART;VALUE=DATE:20260516
DTEND;VALUE=DATE:20260518
DTSTAMP:20260415T155106
CREATED:20260320T132127Z
LAST-MODIFIED:20260320T141415Z
UID:3120-1778889600-1779062399@arcan-india.com
SUMMARY:Salon Équinoxe Branges 16-17 mai 2026 - Lace\, Tattoo & Shop Salle du Marais
DESCRIPTION:🔥 Salon Équinoxe à Branges : Lace\, Tattoo & Shop\nLes 16 et 17 mai 2026\, la Salle du Marais à Branges (71) accueille le Salon Équinoxe – Lace\, Tattoo & Shop\, un événement unique mêlant tatouage\, piercing\, créateurs et univers alternatif. \n👉 Un rendez-vous incontournable pour les passionnés de tattoo\, lifestyle et artisanat original. \n\n🎪 Salon Équinoxe – Lace\, Tattoo & Shop : un événement alternatif à Branges\nLe Salon Équinoxe est organisé autour d’un univers moderne et artistique\, centré sur : \n\nLe tatouage et les artistes tattoo\nLe piercing\nLes stands créateurs (vêtements\, accessoires\, bijoux)\nUne ambiance underground et conviviale\n\n📍 Lieu : Salle du Marais\, 71500 Branges📅 Dates : 16 et 17 mai 2026🕘 Horaires habituels : \n\nSamedi :  10h → 23h\nDimanche : 10h → 19h\n\n👉 L’événement est inspiré des conventions tattoo avec une ambiance festive et artistique. \n\n💀 Un salon tattoo & créateurs avec ambiance unique\nLe concept “Lace\, Tattoo & Shop” mélange plusieurs univers : \n\n💉 Tatoueurs présents sur place\n🔩 Piercing et body art\n👕 Stands de vêtements alternatifs\n💍 Bijoux\, accessoires et créations originales\n\nCe type d’événement attire un public passionné de :✔️ tattoo & culture alternative✔️ mode originale✔️ artisanat atypique \n👉 On est clairement sur un salon lifestyle\, pas un marché classique. \n\n✨ Mon stand : artisanat cuir & bijoux dans un univers alternatif\nLors du Salon Équinoxe à Branges\, je serai présent avec : \n📓 Carnets en cuir véritable\nDes pièces artisanales au style brut et authentique\, parfaites pour l’univers tattoo. \n💍 Bijoux artisanaux indiens\nDes créations uniques qui s’intègrent parfaitement dans un style alternatif ou bohème. \n🎁 Objets originaux\nDes idées cadeaux différentes de ce qu’on trouve ailleurs. \n👉 Mon univers correspond parfaitement à l’ambiance créative et underground du salon. \n\n🔥 Pourquoi venir au Salon Équinoxe à Branges ?\nLe Salon Équinoxe – Lace\, Tattoo & Shop est idéal pour : \n\nDécouvrir des tatoueurs et artistes\nAcheter des créations originales et alternatives\nProfiter d’une ambiance unique en Saône-et-Loire\nRencontrer des passionnés\n\n👉 C’est un événement parfait si tu aimes les univers tattoo\, rock\, bohème ou alternatif. \n\n📅 Infos pratiques – Salon Équinoxe Branges\n\n📍 Salle du Marais\, Branges (71)\n📅 16 et 17 mai 2026\n🕘 Samedi : 10h – 23h\n🕘 Dimanche : 10h – 19h\n🚗 Parking à proximité\n\n\n👉 Rendez-vous à Branges !\nSi tu cherches un salon tattoo en Saône-et-Loire ou un événement original en mai\, le Salon Équinoxe – Lace\, Tattoo & Shop est à ne pas manquer. \nJe serai ravi de te rencontrer et de te faire découvrir mes créations sur place 👇 \n👉 Passe me voir sur mon stand !
URL:https://arcan-india.com/event/salon-equinoxe-branges-16-17-mai-2026-lace-tattoo-shop-salle-du-marais/
LOCATION:branges\, salle du marais\, branges\, 71500\, France
CATEGORIES:Salons
ATTACH;FMTTYPE=image/jpeg:https://arcan-india.com/wp-content/uploads/2026/03/5075567839763184171-e1774015639962.jpg
END:VEVENT
END:VCALENDAR