BEGIN:VCALENDAR
VERSION:2.0
PRODID:-//arcan-india.com - ECPv6.15.20//NONSGML v1.0//EN
CALSCALE:GREGORIAN
METHOD:PUBLISH
X-WR-CALNAME:arcan-india.com
X-ORIGINAL-URL:https://arcan-india.com
X-WR-CALDESC:Évènements pour arcan-india.com
REFRESH-INTERVAL;VALUE=DURATION:PT1H
X-Robots-Tag:noindex
X-PUBLISHED-TTL:PT1H
BEGIN:VTIMEZONE
TZID:UTC
BEGIN:STANDARD
TZOFFSETFROM:+0000
TZOFFSETTO:+0000
TZNAME:UTC
DTSTART:20240101T000000
END:STANDARD
END:VTIMEZONE
BEGIN:VEVENT
DTSTART;TZID=UTC:20250621T150000
DTEND;TZID=UTC:20250621T233000
DTSTAMP:20260422T052934
CREATED:20251029T142852Z
LAST-MODIFIED:20251030T125532Z
UID:1779-1750518000-1750548600@arcan-india.com
SUMMARY:Anniversaire du Meix
DESCRIPTION:
URL:https://arcan-india.com/event/anniversaire-du-meix/
CATEGORIES:Marchés
ATTACH;FMTTYPE=image/png:https://arcan-india.com/wp-content/uploads/2025/10/Opera-Instantane_2025-10-29_152300_www.instagram.com_.png
END:VEVENT
END:VCALENDAR