BEGIN:VCALENDAR
VERSION:2.0
PRODID:-//arcan-india.com - ECPv6.15.20//NONSGML v1.0//EN
CALSCALE:GREGORIAN
METHOD:PUBLISH
X-ORIGINAL-URL:https://arcan-india.com
X-WR-CALDESC:Évènements pour arcan-india.com
REFRESH-INTERVAL;VALUE=DURATION:PT1H
X-Robots-Tag:noindex
X-PUBLISHED-TTL:PT1H
BEGIN:VTIMEZONE
TZID:UTC
BEGIN:STANDARD
TZOFFSETFROM:+0000
TZOFFSETTO:+0000
TZNAME:UTC
DTSTART:20240101T000000
END:STANDARD
END:VTIMEZONE
BEGIN:VEVENT
DTSTART;VALUE=DATE:20250615
DTEND;VALUE=DATE:20250616
DTSTAMP:20260422T053126
CREATED:20251029T142759Z
LAST-MODIFIED:20251030T125525Z
UID:1777-1749945600-1750031999@arcan-india.com
SUMMARY:Fête du soleil - Sellières
DESCRIPTION:
URL:https://arcan-india.com/event/fete-du-soleil-sellieres/
CATEGORIES:Marchés
ATTACH;FMTTYPE=image/jpeg:https://arcan-india.com/wp-content/uploads/2025/10/481a64cd968c6ecb51b19476d3f6bae3_fete-du-so.jpg
END:VEVENT
END:VCALENDAR