BEGIN:VCALENDAR
VERSION:2.0
PRODID:-//arcan-india.com - ECPv6.15.20//NONSGML v1.0//EN
CALSCALE:GREGORIAN
METHOD:PUBLISH
X-ORIGINAL-URL:https://arcan-india.com
X-WR-CALDESC:Évènements pour arcan-india.com
REFRESH-INTERVAL;VALUE=DURATION:PT1H
X-Robots-Tag:noindex
X-PUBLISHED-TTL:PT1H
BEGIN:VTIMEZONE
TZID:UTC
BEGIN:STANDARD
TZOFFSETFROM:+0000
TZOFFSETTO:+0000
TZNAME:UTC
DTSTART:20240101T000000
END:STANDARD
END:VTIMEZONE
BEGIN:VEVENT
DTSTART;VALUE=DATE:20251206
DTEND;VALUE=DATE:20251208
DTSTAMP:20260415T095006
CREATED:20251030T132212Z
LAST-MODIFIED:20251030T132244Z
UID:1880-1764979200-1765151999@arcan-india.com
SUMMARY:Le Grand Marché de Noël de Salins-les-Bains
DESCRIPTION:Ne manquez pas cette occasion unique de célébrer la magie de Noël avec votre famille et vos amis. Le Grand Marché de Noël de Salins-les-Bains\, les 6 Décembre et 7 Décembre 2025 est l’événement incontournable pour partager la joie des fêtes\, soutenir nos artisans locaux et créer des souvenirs inoubliables.\nCe marché de Noël est bien plus qu’un simple endroit pour faire vos achats de saison. Il met en avant la richesse de notre communauté locale avec une multitude d’exposants proposant des créations artisanales uniques. Trouvez le cadeau parfait parmi une variété de produits allant de l’art\, de l’artisanat\, aux bijoux\, aux produits gourmands et bien plus.\nLe Père Noël en personne sera là pour accueillir les enfants. Des manèges enchantés\, des spectacles et des ateliers maquillages les attendent\, garantissant des sourires éclatants et des étoiles dans les yeux.
URL:https://arcan-india.com/event/le-grand-marche-de-noel-de-salins-les-bains/
LOCATION:Salins-Les-Bains\, 48 rue de la République\, Salins-les-Bains\, 39110\, France
CATEGORIES:Marchés
ATTACH;FMTTYPE=image/jpeg:https://arcan-india.com/wp-content/uploads/2025/10/WhatsApp-Image-2025-10-30-a-14.04.16_1862b6b9-e1761830559835.jpg
END:VEVENT
END:VCALENDAR