BEGIN:VCALENDAR
VERSION:2.0
PRODID:-//arcan-india.com - ECPv6.15.20//NONSGML v1.0//EN
CALSCALE:GREGORIAN
METHOD:PUBLISH
X-ORIGINAL-URL:https://arcan-india.com
X-WR-CALDESC:Évènements pour arcan-india.com
REFRESH-INTERVAL;VALUE=DURATION:PT1H
X-Robots-Tag:noindex
X-PUBLISHED-TTL:PT1H
BEGIN:VTIMEZONE
TZID:UTC
BEGIN:STANDARD
TZOFFSETFROM:+0000
TZOFFSETTO:+0000
TZNAME:UTC
DTSTART:20240101T000000
END:STANDARD
END:VTIMEZONE
BEGIN:VEVENT
DTSTART;TZID=UTC:20251123T080000
DTEND;TZID=UTC:20251123T190000
DTSTAMP:20260421T194355
CREATED:20251030T130515Z
LAST-MODIFIED:20251030T130847Z
UID:1862-1763884800-1763924400@arcan-india.com
SUMMARY:Marché de Noël de Bellevesvre
DESCRIPTION:Je serais présent au marché de Noël de Bellevesvre.\n🎅 Venez découvrir les divers exposants\, préparer vos cadeaux 🎁 ou simplement passer un bon moment ✨ \n❄Entrée gratuite\n📝 70 exposants\n📌 Anciennement marché aux poulets\n🍺🍷🌭🍟🍔🧇 Restauration et Buvette sur place\n🐴🐎 Balade en calèche gratuite
URL:https://arcan-india.com/event/marche-de-noel-de-bellevesvre/
LOCATION:Bellevesvre\, La place du marché\, Bellevresvre\, 71270\, France
CATEGORIES:Marchés
ATTACH;FMTTYPE=image/jpeg:https://arcan-india.com/wp-content/uploads/2025/10/WhatsApp-Image-2025-10-30-a-13.39.54_50baff54-e1761829721953.jpg
END:VEVENT
END:VCALENDAR